BEGIN:VCALENDAR
VERSION:2.0
PRODID:-//Portland Maine Dance Club: Inclusive Nightlife, DJs, EDM, Hip Hop, Live Bands | Flask Lounge - ECPv6.15.20//NONSGML v1.0//EN
CALSCALE:GREGORIAN
METHOD:PUBLISH
X-WR-CALNAME:Portland Maine Dance Club: Inclusive Nightlife, DJs, EDM, Hip Hop, Live Bands | Flask Lounge
X-ORIGINAL-URL:https://flasklounge.com
X-WR-CALDESC:Events for Portland Maine Dance Club: Inclusive Nightlife, DJs, EDM, Hip Hop, Live Bands | Flask Lounge
REFRESH-INTERVAL;VALUE=DURATION:PT1H
X-Robots-Tag:noindex
X-PUBLISHED-TTL:PT1H
BEGIN:VTIMEZONE
TZID:America/New_York
BEGIN:DAYLIGHT
TZOFFSETFROM:-0500
TZOFFSETTO:-0400
TZNAME:EDT
DTSTART:20250309T070000
END:DAYLIGHT
BEGIN:STANDARD
TZOFFSETFROM:-0400
TZOFFSETTO:-0500
TZNAME:EST
DTSTART:20251102T060000
END:STANDARD
BEGIN:DAYLIGHT
TZOFFSETFROM:-0500
TZOFFSETTO:-0400
TZNAME:EDT
DTSTART:20260308T070000
END:DAYLIGHT
BEGIN:STANDARD
TZOFFSETFROM:-0400
TZOFFSETTO:-0500
TZNAME:EST
DTSTART:20261101T060000
END:STANDARD
BEGIN:DAYLIGHT
TZOFFSETFROM:-0500
TZOFFSETTO:-0400
TZNAME:EDT
DTSTART:20270314T070000
END:DAYLIGHT
BEGIN:STANDARD
TZOFFSETFROM:-0400
TZOFFSETTO:-0500
TZNAME:EST
DTSTART:20271107T060000
END:STANDARD
END:VTIMEZONE
BEGIN:VEVENT
DTSTART;TZID=America/New_York:20260505T200000
DTEND;TZID=America/New_York:20260506T010000
DTSTAMP:20260423T042301
CREATED:20250317T123701Z
LAST-MODIFIED:20250317T123702Z
UID:10005151-1778011200-1778029200@flasklounge.com
SUMMARY:OPEN DJ NIGHT
DESCRIPTION:It’s an open mic\, but for DJs. Bring your Records\, CDs\, or Controller. All formats/genres are welcome. Every Tuesday at Flask Lounge with select resident hosts each week.\nSign-ups start at 8:30 pm sharp. For specific questions\, please join the Open Facebook Page. https://www.facebook.com/groups/opendjnight \nFor over a decade\, OPEN DJ NIGHT has been a space for DJs to connect\, experiment\, and level up their craft. What started in 2012 has grown into a weekly staple at Flask Lounge\, thanks to dedicated hosts who keep the decks open and the beats flowing. \nBig love to all past and present hosts who make this night possible! 💙 New DJs\, veterans\, and music lovers—come be part of it. \n#OpenDecks #DJCommunity #FlaskLounge #PortlandMaine #UndergroundVibes \nShare this:\n				Share on X (Opens in new window)\n				X\n			\n				Share on Facebook (Opens in new window)\n				Facebook\n			\n				Share on LinkedIn (Opens in new window)\n				LinkedIn\n			\n				Email a link to a friend (Opens in new window)\n				Email
URL:https://flasklounge.com/event/open-dj-night-every-tuesday-2-2-2-2-2/2026-05-05/
LOCATION:Flask Lounge\, 117 Spring St\, Portland\, ME\, 04101\, United States
CATEGORIES:DJ's & Dancing,Live Music
ATTACH;FMTTYPE=image/jpeg:https://flasklounge.com/wp-content/uploads/2023/08/open-dj-night-tuesdays-at-flask.jpg
END:VEVENT
BEGIN:VEVENT
DTSTART;TZID=America/New_York:20260507T200000
DTEND;TZID=America/New_York:20260508T010000
DTSTAMP:20260423T042301
CREATED:20250727T123311Z
LAST-MODIFIED:20250727T123311Z
UID:10009772-1778184000-1778202000@flasklounge.com
SUMMARY:KARAOKE (Every Thursday) at Flask Lounge
DESCRIPTION:🎤 Karaoke Night at Flask Lounge! 🎤 \nJoin us every Thursday at 8 PM for the best karaoke in Portland\, hosted by the legendary DJ Cougar! Whether you’re a karaoke pro or just here to cheer on friends\, this night is all about fun and unforgettable performances. And\, for those looking to take it up a notch\, we’ve got monthly challenges and secret contests with exciting prizes in store. You never know what surprises await—come for the karaoke\, stay for the thrill! \nTo keep up with the latest updates and be part of the community\, join our Flask Karaoke Page! \n📍 Flask Lounge\, 117 Spring St\, Portland\, ME\n💵 Admission: $5\n🔞 21+ with valid ID \nShare this:\n				Share on X (Opens in new window)\n				X\n			\n				Share on Facebook (Opens in new window)\n				Facebook\n			\n				Share on LinkedIn (Opens in new window)\n				LinkedIn\n			\n				Email a link to a friend (Opens in new window)\n				Email
URL:https://flasklounge.com/event/karaoke-every-thursday-at-flask-lounge/2026-05-07/
LOCATION:Flask Lounge\, 117 Spring St\, Portland\, ME\, 04101\, United States
CATEGORIES:DJ's & Dancing,Live Music
ATTACH;FMTTYPE=image/jpeg:https://flasklounge.com/wp-content/uploads/2018/08/32929178_1401764693257339_4277029051555643392_n.jpg
END:VEVENT
BEGIN:VEVENT
DTSTART;TZID=America/New_York:20260512T200000
DTEND;TZID=America/New_York:20260513T010000
DTSTAMP:20260423T042301
CREATED:20250317T123701Z
LAST-MODIFIED:20250317T123702Z
UID:10005152-1778616000-1778634000@flasklounge.com
SUMMARY:OPEN DJ NIGHT
DESCRIPTION:It’s an open mic\, but for DJs. Bring your Records\, CDs\, or Controller. All formats/genres are welcome. Every Tuesday at Flask Lounge with select resident hosts each week.\nSign-ups start at 8:30 pm sharp. For specific questions\, please join the Open Facebook Page. https://www.facebook.com/groups/opendjnight \nFor over a decade\, OPEN DJ NIGHT has been a space for DJs to connect\, experiment\, and level up their craft. What started in 2012 has grown into a weekly staple at Flask Lounge\, thanks to dedicated hosts who keep the decks open and the beats flowing. \nBig love to all past and present hosts who make this night possible! 💙 New DJs\, veterans\, and music lovers—come be part of it. \n#OpenDecks #DJCommunity #FlaskLounge #PortlandMaine #UndergroundVibes \nShare this:\n				Share on X (Opens in new window)\n				X\n			\n				Share on Facebook (Opens in new window)\n				Facebook\n			\n				Share on LinkedIn (Opens in new window)\n				LinkedIn\n			\n				Email a link to a friend (Opens in new window)\n				Email
URL:https://flasklounge.com/event/open-dj-night-every-tuesday-2-2-2-2-2/2026-05-12/
LOCATION:Flask Lounge\, 117 Spring St\, Portland\, ME\, 04101\, United States
CATEGORIES:DJ's & Dancing,Live Music
ATTACH;FMTTYPE=image/jpeg:https://flasklounge.com/wp-content/uploads/2023/08/open-dj-night-tuesdays-at-flask.jpg
END:VEVENT
BEGIN:VEVENT
DTSTART;TZID=America/New_York:20260514T200000
DTEND;TZID=America/New_York:20260515T010000
DTSTAMP:20260423T042301
CREATED:20250727T123311Z
LAST-MODIFIED:20250727T123311Z
UID:10009773-1778788800-1778806800@flasklounge.com
SUMMARY:KARAOKE (Every Thursday) at Flask Lounge
DESCRIPTION:🎤 Karaoke Night at Flask Lounge! 🎤 \nJoin us every Thursday at 8 PM for the best karaoke in Portland\, hosted by the legendary DJ Cougar! Whether you’re a karaoke pro or just here to cheer on friends\, this night is all about fun and unforgettable performances. And\, for those looking to take it up a notch\, we’ve got monthly challenges and secret contests with exciting prizes in store. You never know what surprises await—come for the karaoke\, stay for the thrill! \nTo keep up with the latest updates and be part of the community\, join our Flask Karaoke Page! \n📍 Flask Lounge\, 117 Spring St\, Portland\, ME\n💵 Admission: $5\n🔞 21+ with valid ID \nShare this:\n				Share on X (Opens in new window)\n				X\n			\n				Share on Facebook (Opens in new window)\n				Facebook\n			\n				Share on LinkedIn (Opens in new window)\n				LinkedIn\n			\n				Email a link to a friend (Opens in new window)\n				Email
URL:https://flasklounge.com/event/karaoke-every-thursday-at-flask-lounge/2026-05-14/
LOCATION:Flask Lounge\, 117 Spring St\, Portland\, ME\, 04101\, United States
CATEGORIES:DJ's & Dancing,Live Music
ATTACH;FMTTYPE=image/jpeg:https://flasklounge.com/wp-content/uploads/2018/08/32929178_1401764693257339_4277029051555643392_n.jpg
END:VEVENT
BEGIN:VEVENT
DTSTART;TZID=America/New_York:20260519T200000
DTEND;TZID=America/New_York:20260520T010000
DTSTAMP:20260423T042301
CREATED:20250317T123701Z
LAST-MODIFIED:20250317T123702Z
UID:10005153-1779220800-1779238800@flasklounge.com
SUMMARY:OPEN DJ NIGHT
DESCRIPTION:It’s an open mic\, but for DJs. Bring your Records\, CDs\, or Controller. All formats/genres are welcome. Every Tuesday at Flask Lounge with select resident hosts each week.\nSign-ups start at 8:30 pm sharp. For specific questions\, please join the Open Facebook Page. https://www.facebook.com/groups/opendjnight \nFor over a decade\, OPEN DJ NIGHT has been a space for DJs to connect\, experiment\, and level up their craft. What started in 2012 has grown into a weekly staple at Flask Lounge\, thanks to dedicated hosts who keep the decks open and the beats flowing. \nBig love to all past and present hosts who make this night possible! 💙 New DJs\, veterans\, and music lovers—come be part of it. \n#OpenDecks #DJCommunity #FlaskLounge #PortlandMaine #UndergroundVibes \nShare this:\n				Share on X (Opens in new window)\n				X\n			\n				Share on Facebook (Opens in new window)\n				Facebook\n			\n				Share on LinkedIn (Opens in new window)\n				LinkedIn\n			\n				Email a link to a friend (Opens in new window)\n				Email
URL:https://flasklounge.com/event/open-dj-night-every-tuesday-2-2-2-2-2/2026-05-19/
LOCATION:Flask Lounge\, 117 Spring St\, Portland\, ME\, 04101\, United States
CATEGORIES:DJ's & Dancing,Live Music
ATTACH;FMTTYPE=image/jpeg:https://flasklounge.com/wp-content/uploads/2023/08/open-dj-night-tuesdays-at-flask.jpg
END:VEVENT
BEGIN:VEVENT
DTSTART;TZID=America/New_York:20260521T200000
DTEND;TZID=America/New_York:20260522T010000
DTSTAMP:20260423T042301
CREATED:20250727T123311Z
LAST-MODIFIED:20250727T123311Z
UID:10009774-1779393600-1779411600@flasklounge.com
SUMMARY:KARAOKE (Every Thursday) at Flask Lounge
DESCRIPTION:🎤 Karaoke Night at Flask Lounge! 🎤 \nJoin us every Thursday at 8 PM for the best karaoke in Portland\, hosted by the legendary DJ Cougar! Whether you’re a karaoke pro or just here to cheer on friends\, this night is all about fun and unforgettable performances. And\, for those looking to take it up a notch\, we’ve got monthly challenges and secret contests with exciting prizes in store. You never know what surprises await—come for the karaoke\, stay for the thrill! \nTo keep up with the latest updates and be part of the community\, join our Flask Karaoke Page! \n📍 Flask Lounge\, 117 Spring St\, Portland\, ME\n💵 Admission: $5\n🔞 21+ with valid ID \nShare this:\n				Share on X (Opens in new window)\n				X\n			\n				Share on Facebook (Opens in new window)\n				Facebook\n			\n				Share on LinkedIn (Opens in new window)\n				LinkedIn\n			\n				Email a link to a friend (Opens in new window)\n				Email
URL:https://flasklounge.com/event/karaoke-every-thursday-at-flask-lounge/2026-05-21/
LOCATION:Flask Lounge\, 117 Spring St\, Portland\, ME\, 04101\, United States
CATEGORIES:DJ's & Dancing,Live Music
ATTACH;FMTTYPE=image/jpeg:https://flasklounge.com/wp-content/uploads/2018/08/32929178_1401764693257339_4277029051555643392_n.jpg
END:VEVENT
BEGIN:VEVENT
DTSTART;TZID=America/New_York:20260526T200000
DTEND;TZID=America/New_York:20260527T010000
DTSTAMP:20260423T042301
CREATED:20250317T123701Z
LAST-MODIFIED:20250317T123702Z
UID:10005154-1779825600-1779843600@flasklounge.com
SUMMARY:OPEN DJ NIGHT
DESCRIPTION:It’s an open mic\, but for DJs. Bring your Records\, CDs\, or Controller. All formats/genres are welcome. Every Tuesday at Flask Lounge with select resident hosts each week.\nSign-ups start at 8:30 pm sharp. For specific questions\, please join the Open Facebook Page. https://www.facebook.com/groups/opendjnight \nFor over a decade\, OPEN DJ NIGHT has been a space for DJs to connect\, experiment\, and level up their craft. What started in 2012 has grown into a weekly staple at Flask Lounge\, thanks to dedicated hosts who keep the decks open and the beats flowing. \nBig love to all past and present hosts who make this night possible! 💙 New DJs\, veterans\, and music lovers—come be part of it. \n#OpenDecks #DJCommunity #FlaskLounge #PortlandMaine #UndergroundVibes \nShare this:\n				Share on X (Opens in new window)\n				X\n			\n				Share on Facebook (Opens in new window)\n				Facebook\n			\n				Share on LinkedIn (Opens in new window)\n				LinkedIn\n			\n				Email a link to a friend (Opens in new window)\n				Email
URL:https://flasklounge.com/event/open-dj-night-every-tuesday-2-2-2-2-2/2026-05-26/
LOCATION:Flask Lounge\, 117 Spring St\, Portland\, ME\, 04101\, United States
CATEGORIES:DJ's & Dancing,Live Music
ATTACH;FMTTYPE=image/jpeg:https://flasklounge.com/wp-content/uploads/2023/08/open-dj-night-tuesdays-at-flask.jpg
END:VEVENT
BEGIN:VEVENT
DTSTART;TZID=America/New_York:20260528T200000
DTEND;TZID=America/New_York:20260529T010000
DTSTAMP:20260423T042301
CREATED:20250727T123311Z
LAST-MODIFIED:20250727T123311Z
UID:10009775-1779998400-1780016400@flasklounge.com
SUMMARY:KARAOKE (Every Thursday) at Flask Lounge
DESCRIPTION:🎤 Karaoke Night at Flask Lounge! 🎤 \nJoin us every Thursday at 8 PM for the best karaoke in Portland\, hosted by the legendary DJ Cougar! Whether you’re a karaoke pro or just here to cheer on friends\, this night is all about fun and unforgettable performances. And\, for those looking to take it up a notch\, we’ve got monthly challenges and secret contests with exciting prizes in store. You never know what surprises await—come for the karaoke\, stay for the thrill! \nTo keep up with the latest updates and be part of the community\, join our Flask Karaoke Page! \n📍 Flask Lounge\, 117 Spring St\, Portland\, ME\n💵 Admission: $5\n🔞 21+ with valid ID \nShare this:\n				Share on X (Opens in new window)\n				X\n			\n				Share on Facebook (Opens in new window)\n				Facebook\n			\n				Share on LinkedIn (Opens in new window)\n				LinkedIn\n			\n				Email a link to a friend (Opens in new window)\n				Email
URL:https://flasklounge.com/event/karaoke-every-thursday-at-flask-lounge/2026-05-28/
LOCATION:Flask Lounge\, 117 Spring St\, Portland\, ME\, 04101\, United States
CATEGORIES:DJ's & Dancing,Live Music
ATTACH;FMTTYPE=image/jpeg:https://flasklounge.com/wp-content/uploads/2018/08/32929178_1401764693257339_4277029051555643392_n.jpg
END:VEVENT
END:VCALENDAR